Workbook

Sheet 11022022
A1: DEPARTAMENTO | B1: ETC | C1: FECHA DE INICIO CALENDARIO ACADÉMICO | D1: FECHA INICIO ATENCIÓN PAE | E1: FECHA PROYECTADA FIN ATENCIÓN PAE | F1: MODALIDAD DE ATENCIÓN | G1: MAYORITARIO / INDÍGENA | H1: TOTAL BENEFICIARIOS PAE
A2: Amazonas | B2: Amazonas | C2: =[1]PLANEACIÓN!D4 -> 44592 | G2: Mayoritario/Indígena
A3: Antioquia | B3: Antioquia | C3: =[1]PLANEACIÓN!D5 -> 44578 | D3: 44578 | F3: RPS/RI | G3: Mayoritario/Indígena
A4: Antioquia | B4: Apartadó | C4: =[1]PLANEACIÓN!D6 -> 44585 | D4: 44599 | F4: Ración Preparada en Sitio | G4: PAE Mayoritario | H4: 9500
A5: Antioquia | B5: Bello | C5: =[1]PLANEACIÓN!D7 -> 44585 | D5: 44585 | E5: 44698 | F5: RPS/RI | G5: PAE Mayoritario | H5: 20000
A6: Antioquia | B6: Envigado | C6: =[1]PLANEACIÓN!D8 -> 44578 | D6: 44578 | E6: 44895 | F6: RPS/RI | G6: PAE Mayoritario | H6: 9500
A7: Antioquia | B7: Itagüí | C7: =[1]PLANEACIÓN!D9 -> 44578 | D7: 44578 | E7: 44891 | F7: Ración Preparada en Sitio | G7: PAE Mayoritario | H7: 17600
A8: Antioquia | B8: Medellín | C8: =[1]PLANEACIÓN!D10 -> 44578 | D8: 44578 | E8: 44638 | F8: RPS/RI | G8: PAE Mayoritario | H8: 220000
A9: Antioquia | B9: Rionegro | C9: =[1]PLANEACIÓN!D11 -> 44578 | D9: 44578 | F9: RPS/RI | G9: PAE Mayoritario | H9: 18000
A10: Antioquia | B10: Sabaneta | C10: =[1]PLANEACIÓN!D12 -> 44578 | D10: 44578 | E10: 44890 | F10: RPS/RI | G10: PAE Mayoritario | H10: 3016
A11: Antioquia | B11: Turbo | C11: =[1]PLANEACIÓN!D13 -> 44585 | D11: 44595 | F11: Ración Preparada en Sitio | G11: Mayoritario/Indígena | H11: 18093
A12: Arauca | B12: Arauca | C12: 44585 | D12: 44585 | E12: 44659 | F12: Ración Preparada en Sitio | G12: PAE Mayoritario | H12: 19405
A13: Arauca | B13: Arauca | C13: =[1]PLANEACIÓN!D14 -> 44585 | D13: 44585 | E13: 44644 | F13: Ración Preparada en Sitio | G13: PAE Indígena | H13: 3001
A14: Atlántico | B14: Atlántico | C14: =[1]PLANEACIÓN!D15 -> 44585 | D14: 44585 | E14: 44652 | F14: Ración Industrializada | G14: PAE Mayoritario
A15: Atlántico | B15: Barranquilla | C15: =[1]PLANEACIÓN!D16 -> 44592 | D15: 44592 | E15: 44621 | F15: RPS/RI/CCT | G15: PAE Mayoritario | H15: 122000
A16: Atlántico | B16: Malambo | C16: =[1]PLANEACIÓN!D17 -> 44592 | D16: 44592 | E16: 44620 | F16: RPS/RI | G16: PAE Mayoritario | H16: 9817
A17: Atlántico | B17: Soledad | C17: =[1]PLANEACIÓN!D18 -> 44585 | D17: 44585 | E17: 44652 | F17: RPS/RI | G17: PAE Mayoritario | H17: 33200
A18: Bogotá | B18: Bogotá | C18: =[1]PLANEACIÓN!D19 -> 44585 | D18: 44585 | E18: 44651 | F18: RPS/RI/CCT | G18: PAE Mayoritario | H18: 743085
A19: Bolívar | B19: Bolívar | C19: =[1]PLANEACIÓN!D20 -> 44592 | D19: 44592 | E19: 44803 | F19: RPS/RI | G19: PAE Mayoritario | H19: 120000
A20: Bolívar | B20: Cartagena | C20: =[1]PLANEACIÓN!D21 -> 44592 | D20: 44592 | E20: 44676 | F20: RPS/RI | G20: PAE Mayoritario | H20: 107025
A21: Bolívar | B21: Magangué | C21: =[1]PLANEACIÓN!D22 -> 44592 | D21: 44592 | E21: 44892 | F21: RPS/RI | G21: PAE Mayoritario | H21: 9242
A22: Boyacá | B22: Boyacá | C22: =[1]PLANEACIÓN!D23 -> 44592 | D22: 44592 | F22: Ración Preparada en Sitio | G22: PAE Mayoritario
A23: Boyacá | B23: Duitama | C23: =[1]PLANEACIÓN!D24 -> 44585 | D23: 44585 | F23: RPS/RI | G23: PAE Mayoritario
A24: Boyacá | B24: Sogamoso | C24: =[1]PLANEACIÓN!D25 -> 44585 | D24: 44592 | E24: 44899 | F24: RPS/RI | G24: PAE Mayoritario | H24: 18600
A25: Boyacá | B25: Tunja | C25: =[1]PLANEACIÓN!D26 -> 44592 | D25: 44592 | F25: Ración Preparada en Sitio | G25: PAE Mayoritario
A26: Caldas | B26: Caldas | C26: =[1]PLANEACIÓN!D27 -> 44585 | F26: RPS/RI | G26: PAE Mayoritario
A27: Caldas | B27: Manizales | C27: =[1]PLANEACIÓN!D28 -> 44585 | D27: 44585 | E27: 44897 | F27: RPS/RI | G27: PAE Mayoritario | H27: 28111
A28: Caquetá | B28: Caquetá | C28: =[1]PLANEACIÓN!D29 -> 44585 | G28: PAE Mayoritario | H28: 36933
A29: Caquetá | B29: Florencia | C29: =[1]PLANEACIÓN!D30 -> 44585 | F29: RPS/RI | G29: PAE Mayoritario | H29: 20149
A30: Casanare | B30: Casanare | C30: =[1]PLANEACIÓN!D31 -> 44592 | D30: 44601 | E30: 44715 | F30: RPS/RI | G30: PAE Mayoritario | H30: 16825
A31: Casanare | B31: Casanare | C31: 44592 | D31: 44592 | E31: 44866 | F31: Ración Preparada en Sitio | G31: PAE Indígena | H31: 2001
A32: Casanare | B32: Yopal | C32: =[1]PLANEACIÓN!D32 -> 44585 | D32: 44585 | E32: 44834 | F32: Ración Preparada en Sitio | G32: PAE Mayoritario | H32: 13000
A33: Cauca | B33: Cauca | C33: =[1]PLANEACIÓN!D33 -> 44585 | F33: Ración Preparada en Sitio | G33: PAE Mayoritario | H33: 93283
A34: Cauca | B34: Cauca | C34: 44578 | D34: 44578 | E34: 44698 | F34: Ración Preparada en Sitio | G34: PAE Indígena | H34: 63170
A35: Cauca | B35: Popayán | C35: =[1]PLANEACIÓN!D34 -> 44592 | F35: RPS/RI | G35: Mayoritario/Indígena | H35: 11097
A36: Cesar | B36: Cesar | C36: =[1]PLANEACIÓN!D35 -> 44585
A37: Cesar | B37: Valledupar | C37: =[1]PLANEACIÓN!D36 -> 44592 | D37: 44599 | F37: RPS/RI | G37: Mayoritario/Indígena
A38: Chocó | B38: Chocó | C38: =[1]PLANEACIÓN!D37 -> 44578 | F38: Ración Preparada en Sitio | G38: PAE Mayoritario
A39: Chocó | B39: Chocó | C39: =[1]PLANEACIÓN!D38 -> 44578 | F39: Ración Preparada en Sitio | G39: PAE Indígena
A40: Chocó | B40: Quibdó | C40: =[1]PLANEACIÓN!D38 -> 44578 | D40: 44599 | E40: 44890 | F40: Ración Preparada en Sitio | G40: PAE Mayoritario | H40: 33816
A41: Córdoba | B41: Córdoba | C41: =[1]PLANEACIÓN!D39 -> 44585 | F41: Ración Preparada en Sitio | G41: PAE Mayoritario | H41: 159327
A42: Córdoba | B42: Córdoba | C42: 44585 | F42: Ración Preparada en Sitio | G42: PAE Indígena | H42: 15003
A43: Córdoba | B43: Lorica | C43: =[1]PLANEACIÓN!D40 -> 44578 | F43: RPS/RI | G43: PAE Mayoritario | H43: 22801
A44: Córdoba | B44: Montería | C44: =[1]PLANEACIÓN!D41 -> 44585 | D44: 44585 | F44: Ración Industrializada | G44: PAE Mayoritario | H44: 41444
A45: Córdoba | B45: Sahagún | C45: =[1]PLANEACIÓN!D42 -> 44585 | D45: 44585 | E45: 44705 | F45: Ración Preparada en Sitio | G45: PAE Mayoritario | H45: 9365
A46: Cundinamarca | B46: Chía | C46: =[1]PLANEACIÓN!D43 -> 44585 | D46: 44585 | E46: 44631 | F46: RPS/RI | G46: PAE Mayoritario | H46: 15067
A47: Cundinamarca | B47: Cundinamarca | C47: =[1]PLANEACIÓN!D44 -> 44585
A48: Cundinamarca | B48: Facatativá | C48: =[1]PLANEACIÓN!D45 -> 44585 | D48: 44587 | F48: RPS/RI | G48: PAE Mayoritario | H48: 9788
A49: Cundinamarca | B49: Funza | C49: =[1]PLANEACIÓN!D46 -> 44585 | D49: 44585 | E49: 44712 | F49: RPS/RI | G49: PAE Mayoritario | H49: 10300
A50: Cundinamarca | B50: Fusagasugá | C50: =[1]PLANEACIÓN!D47 -> 44585 | D50: 44603 | E50: 44795 | F50: RPS/RI
A51: Cundinamarca | B51: Girardot | C51: =[1]PLANEACIÓN!D48 -> 44585 | D51: 44593 | E51: 44834 | F51: RPS/RI | G51: PAE Mayoritario | H51: 8100
A52: Cundinamarca | B52: Mosquera | C52: =[1]PLANEACIÓN!D49 -> 44592 | D52: 44592 | E52: 44607 | F52: RPS/RI | G52: PAE Mayoritario | H52: 17000
A53: Cundinamarca | B53: Soacha | C53: =[1]PLANEACIÓN!D50 -> 44585 | D53: 44585 | E53: 44765 | F53: RPS/RI | G53: PAE Mayoritario | H53: 41577
A54: Cundinamarca | B54: Zipaquirá | C54: =[1]PLANEACIÓN!D51 -> 44585 | D54: 44585 | E54: 44750 | F54: RPS/RI | G54: PAE Mayoritario | H54: 9470
A55: Guainía | B55: Guainía | C55: =[1]PLANEACIÓN!D52 -> 44592 | F55: Ración Preparada en Sitio | G55: Mayoritario/Indígena | H55: 5911
A56: Guaviare | B56: Guaviare | C56: 44578 | F56: RPS/RI | G56: PAE Mayoritario | H56: 8328
A57: Guaviare | B57: Guaviare | C57: =[1]PLANEACIÓN!D53 -> 44578 | F57: Ración Preparada en Sitio | G57: PAE Indígena | H57: 1647
A58: Huila | B58: Huila | C58: =[1]PLANEACIÓN!D54 -> 44585 | D58: 44592 | E58: 44804 | F58: Ración Preparada en Sitio | G58: PAE Mayoritario | H58: 123751
A59: Huila | B59: Huila | C59: 44585 | D59: 44585 | E59: 44642 | F59: Ración Preparada en Sitio | G59: PAE Indígena | H59: 1906
A60: Huila | B60: Neiva | C60: =[1]PLANEACIÓN!D55 -> 44585 | G60: PAE Mayoritario | H60: 38091
A61: Huila | B61: Pitalito | C61: =[1]PLANEACIÓN!D56 -> 44585 | F61: Ración Preparada en Sitio | G61: Mayoritario/Indígena | H61: 11546
A62: La Guajira | B62: La Guajira | C62: =[1]PLANEACIÓN!D57 -> 44599 | F62: RPS/RI
A63: La Guajira | B63: Maicao | C63: =[1]PLANEACIÓN!D58 -> 44599 | D63: 44599 | E63: 44896 | F63: RPS/RI/CCT | G63: Mayoritario/Indígena | H63: 30416
A64: La Guajira | B64: Riohacha | C64: =[1]PLANEACIÓN!D59 -> 44599
A65: La Guajira | B65: Uribia | C65: =[1]PLANEACIÓN!D60 -> 44599 | D65: 44599 | E65: 44897 | F65: RPS/RI
A66: Magdalena | B66: Ciénaga | C66: =[1]PLANEACIÓN!D61 -> 44585 | D66: 44588 | F66: Ración Industrializada
A67: Magdalena | B67: Magdalena | C67: =[1]PLANEACIÓN!D62 -> 44585 | F67: RPS/RI/CCT
A68: Magdalena | B68: Santa Marta | C68: =[1]PLANEACIÓN!D63 -> 44585
A69: Meta | B69: Meta | C69: =[1]PLANEACIÓN!D64 -> 44592 | D69: 44592 | E69: 44772 | F69: RPS/RI | G69: PAE Mayoritario | H69: 88752
A70: Meta | B70: Villavicencio | C70: =[1]PLANEACIÓN!D65 -> 44592 | F70: RPS/RI | G70: PAE Mayoritario | H70: 56889
A71: Nariño | B71: Ipiales | C71: =[1]PLANEACIÓN!D66 -> 44585 | D71: 44592 | E71: 44793 | F71: RPS/RI | G71: PAE Mayoritario | H71: 13959
A72: Nariño | B72: Nariño | C72: =[1]PLANEACIÓN!D67 -> 44592 | D72: 44592 | E72: 44678 | F72: RPS/RI | G72: PAE Mayoritario | H72: 113402
A73: Nariño | B73: Nariño | C73: 44592 | D73: 44595 | E73: 44897 | F73: Ración Preparada en Sitio | G73: PAE Indígena | H73: 24076
A74: Nariño | B74: Pasto | C74: =[1]PLANEACIÓN!D68 -> 44592 | F74: RPS/RI | G74: PAE Mayoritario | H74: 49131
A75: Nariño | B75: Tumaco | C75: =[1]PLANEACIÓN!D69 -> 44592 | D75: 44592 | E75: 44849 | F75: Ración Preparada en Sitio | G75: PAE Mayoritario | H75: 44324
A76: Nariño | B76: Tumaco | C76: 44592 | D76: 44592 | E76: 44849 | F76: Ración Preparada en Sitio | G76: PAE Indígena | H76: 2990
A77: Norte de Santander | B77: Cúcuta | C77: =[1]PLANEACIÓN!D70 -> 44592 | F77: RPS/RI | G77: PAE Mayoritario | H77: 71027
A78: Norte de Santander | B78: Norte de Santander | C78: =[1]PLANEACIÓN!D71 -> 44592 | D78: 44592 | E78: 44686 | F78: RPS/RI | G78: PAE Mayoritario | H78: 116000
A79: Norte de Santander | B79: Norte de Santander | C79: 44592 | D79: 44592 | E79: 44893 | F79: Ración Preparada en Sitio | G79: PAE Indígena | H79: 402
A80: Putumayo | B80: Putumayo | C80: =[1]PLANEACIÓN!D72 -> 44592 | D80: 44592 | F80: Ración Preparada en Sitio | G80: Mayoritario/Indígena | H80: 57155
A81: Quindío | B81: Armenia | C81: =[1]PLANEACIÓN!D73 -> 44592 | D81: 44594 | F81: RPS/RI | G81: PAE Mayoritario
A82: Quindío | B82: Quindío | C82: =[1]PLANEACIÓN!D74 -> 44592 | D82: 44592 | F82: Ración Industrializada | G82: PAE Mayoritario
A83: Risaralda | B83: Dosquebradas | C83: =[1]PLANEACIÓN!D75 -> 44599 | D83: 44599 | F83: RPS/RI | G83: PAE Mayoritario | H83: 15749
A84: Risaralda | B84: Pereira | C84: =[1]PLANEACIÓN!D76 -> 44585 | D84: 44585 | E84: 44708 | F84: RPS/RI/CCT | G84: PAE Mayoritario | H84: 23683
A85: Risaralda | B85: Risaralda | C85: =[1]PLANEACIÓN!D77 -> 44585 | D85: 44585 | F85: RPS/RI | G85: PAE Mayoritario | H85: 28100
A86: San Andrés | B86: San Andrés | C86: =[1]PLANEACIÓN!D78 -> 44578 | D86: 44579 | F86: RPS/RI | G86: PAE Mayoritario
A87: Santander | B87: Barrancabermeja | C87: =[1]PLANEACIÓN!D79 -> 44585 | D87: 44585 | F87: RPS/RI
A88: Santander | B88: Bucaramanga | C88: =[1]PLANEACIÓN!D80 -> 44578 | D88: 44578 | F88: RPS/RI | G88: PAE Mayoritario | H88: 35978
A89: Santander | B89: Floridablanca | C89: =[1]PLANEACIÓN!D81 -> 44578 | D89: 44578 | F89: Ración Industrializada | G89: PAE Mayoritario | H89: 17907
A90: Santander | B90: Girón | C90: =[1]PLANEACIÓN!D82 -> 44585 | D90: 44585 | F90: Ración Preparada en Sitio
A91: Santander | B91: Piedecuesta | C91: =[1]PLANEACIÓN!D83 -> 44578
A92: Santander | B92: Santander | C92: =[1]PLANEACIÓN!D84 -> 44585 | D92: 44585 | F92: Ración Preparada en Sitio
A93: Sucre | B93: Sincelejo | C93: =[1]PLANEACIÓN!D85 -> 44592 | F93: RPS/RI | G93: Mayoritario/Indígena | H93: 36046
A94: Sucre | B94: Sucre | C94: =[1]PLANEACIÓN!D86 -> 44585 | F94: RPS/RI | G94: PAE Mayoritario | H94: 31677
A95: Tolima | B95: Ibagué | C95: =[1]PLANEACIÓN!D87 -> 44585 | D95: 44585 | E95: 44620 | F95: RPS/RI | G95: PAE Mayoritario | H95: 52000
A96: Tolima | B96: Tolima | C96: 44585 | D96: 44585 | E96: 44624 | F96: RPS/RI | G96: PAE Mayoritario | H96: 59776
A97: Tolima | B97: Tolima | C97: =[1]PLANEACIÓN!D88 -> 44585 | D97: 44585 | E97: 44624 | F97: RPS/RI | G97: PAE Indígena | H97: 9260
A98: Valle del Cauca | B98: Buenaventura | C98: =[1]PLANEACIÓN!D89 -> 44578
A99: Valle del Cauca | B99: Buga | C99: =[1]PLANEACIÓN!D90 -> 44585 | F99: RPS/RI
A100: Valle del Cauca | B100: Cali | C100: =[1]PLANEACIÓN!D91 -> 44592 | D100: 44592 | F100: RPS/RI
...
