Workbook

Sheet 11022022
A1: DEPARTAMENTO | B1: ETC | C1: FECHA DE INICIO CALENDARIO ACADÉMICO | D1: FECHA INICIO ATENCIÓN PAE | E1: FECHA PROYECTADA FIN ATENCIÓN PAE | F1: MODALIDAD DE ATENCIÓN | G1: MAYORITARIO / INDÍGENA | H1: TOTAL BENEFICIARIOS PAE
A2: Amazonas | B2: Amazonas | C2: =[1]PLANEACIÓN!D4 -> 44592 | G2: Mayoritario/Indígena
A3: Antioquia | B3: Antioquia | C3: =[1]PLANEACIÓN!D5 -> 44578 | D3: 44578 | F3: RPS/RI | G3: Mayoritario/Indígena
A4: Antioquia | B4: Apartadó | C4: =[1]PLANEACIÓN!D6 -> 44585 | D4: 44599 | F4: Ración Preparada en Sitio | G4: PAE Mayoritario | H4: 9500
A5: Antioquia | B5: Bello | C5: =[1]PLANEACIÓN!D7 -> 44585 | D5: 44585 | E5: 44698 | F5: RPS/RI | G5: PAE Mayoritario | H5: 20000
A6: Antioquia | B6: Envigado | C6: =[1]PLANEACIÓN!D8 -> 44578 | D6: 44578 | E6: 44895 | F6: RPS/RI | G6: PAE Mayoritario | H6: 9500
A7: Antioquia | B7: Itagüí | C7: =[1]PLANEACIÓN!D9 -> 44578 | D7: 44578 | E7: 44891 | F7: Ración Preparada en Sitio | G7: PAE Mayoritario | H7: 17600
A8: Antioquia | B8: Medellín | C8: =[1]PLANEACIÓN!D10 -> 44578 | D8: 44578 | E8: 44638 | F8: RPS/RI | G8: PAE Mayoritario | H8: 220000
A9: Antioquia | B9: Rionegro | C9: =[1]PLANEACIÓN!D11 -> 44578 | D9: 44578 | F9: RPS/RI | G9: PAE Mayoritario | H9: 18000
A10: Antioquia | B10: Sabaneta | C10: =[1]PLANEACIÓN!D12 -> 44578 | D10: 44578 | E10: 44890 | F10: RPS/RI | G10: PAE Mayoritario | H10: 3016
A11: Antioquia | B11: Turbo | C11: =[1]PLANEACIÓN!D13 -> 44585 | D11: 44595 | F11: Ración Preparada en Sitio | G11: Mayoritario/Indígena | H11: 18093
A12: Arauca | B12: Arauca | C12: 44585 | D12: 44585 | E12: 44659 | F12: Ración Preparada en Sitio | G12: PAE Mayoritario | H12: 19405
A13: Arauca | B13: Arauca | C13: =[1]PLANEACIÓN!D14 -> 44585 | D13: 44585 | E13: 44644 | F13: Ración Preparada en Sitio | G13: PAE Indígena | H13: 3001
A14: Atlántico | B14: Atlántico | C14: =[1]PLANEACIÓN!D15 -> 44585 | D14: 44585 | E14: 44652 | F14: Ración Industrializada | G14: PAE Mayoritario
A15: Atlántico | B15: Barranquilla | C15: =[1]PLANEACIÓN!D16 -> 44592 | D15: 44592 | E15: 44621 | F15: RPS/RI/CCT | G15: PAE Mayoritario | H15: 122000
A16: Atlántico | B16: Malambo | C16: =[1]PLANEACIÓN!D17 -> 44592 | D16: 44592 | E16: 44620 | F16: RPS/RI | G16: PAE Mayoritario | H16: 9817
A17: Atlántico | B17: Soledad | C17: =[1]PLANEACIÓN!D18 -> 44585 | D17: 44585 | E17: 44652 | F17: RPS/RI | G17: PAE Mayoritario | H17: 33200
A18: Bogotá | B18: Bogotá | C18: =[1]PLANEACIÓN!D19 -> 44585 | D18: 44585 | E18: 44651 | F18: RPS/RI/CCT | G18: PAE Mayoritario | H18: 743085
A19: Bolívar | B19: Bolívar | C19: =[1]PLANEACIÓN!D20 -> 44592 | D19: 44592 | E19: 44803 | F19: RPS/RI | G19: PAE Mayoritario | H19: 120000
A20: Bolívar | B20: Cartagena | C20: =[1]PLANEACIÓN!D21 -> 44592 | D20: 44592 | E20: 44676 | F20: RPS/RI | G20: PAE Mayoritario | H20: 107025
A21: Bolívar | B21: Magangué | C21: =[1]PLANEACIÓN!D22 -> 44592 | D21: 44592 | E21: 44892 | F21: RPS/RI | G21: PAE Mayoritario | H21: 9242
A22: Boyacá | B22: Boyacá | C22: =[1]PLANEACIÓN!D23 -> 44592 | D22: 44592 | F22: Ración Preparada en Sitio | G22: PAE Mayoritario
A23: Boyacá | B23: Duitama | C23: =[1]PLANEACIÓN!D24 -> 44585 | D23: 44585 | F23: RPS/RI | G23: PAE Mayoritario
A24: Boyacá | B24: Sogamoso | C24: =[1]PLANEACIÓN!D25 -> 44585 | D24: 44592 | E24: 44899 | F24: RPS/RI | G24: PAE Mayoritario | H24: 18600
A25: Boyacá | B25: Tunja | C25: =[1]PLANEACIÓN!D26 -> 44592 | D25: 44592 | F25: Ración Preparada en Sitio | G25: PAE Mayoritario
A26: Caldas | B26: Caldas | C26: =[1]PLANEACIÓN!D27 -> 44585 | F26: RPS/RI | G26: PAE Mayoritario
A27: Caldas | B27: Manizales | C27: =[1]PLANEACIÓN!D28 -> 44585 | D27: 44585 | E27: 44897 | F27: RPS/RI | G27: PAE Mayoritario | H27: 28111
A28: Caquetá | B28: Caquetá | C28: =[1]PLANEACIÓN!D29 -> 44585 | G28: PAE Mayoritario | H28: 36933
A29: Caquetá | B29: Florencia | C29: =[1]PLANEACIÓN!D30 -> 44585 | F29: RPS/RI | G29: PAE Mayoritario | H29: 20149
A30: Casanare | B30: Casanare | C30: =[1]PLANEACIÓN!D31 -> 44592 | D30: 44601 | E30: 44715 | F30: RPS/RI | G30: PAE Mayoritario | H30: 16825
A31: Casanare | B31: Casanare | C31: 44592 | D31: 44592 | E31: 44866 | F31: Ración Preparada en Sitio | G31: PAE Indígena | H31: 2001
A32: Casanare | B32: Yopal | C32: =[1]PLANEACIÓN!D32 -> 44585 | D32: 44585 | E32: 44834 | F32: Ración Preparada en Sitio | G32: PAE Mayoritario | H32: 13000
A33: Cauca | B33: Cauca | C33: =[1]PLANEACIÓN!D33 -> 44585 | F33: Ración Preparada en Sitio | G33: PAE Mayoritario | H33: 93283
A34: Cauca | B34: Cauca | C34: 44578 | D34: 44578 | E34: 44698 | F34: Ración Preparada en Sitio | G34: PAE Indígena | H34: 63170
A35: Cauca | B35: Popayán | C35: =[1]PLANEACIÓN!D34 -> 44592 | F35: RPS/RI | G35: Mayoritario/Indígena | H35: 11097
A36: Cesar | B36: Cesar | C36: =[1]PLANEACIÓN!D35 -> 44585
A37: Cesar | B37: Valledupar | C37: =[1]PLANEACIÓN!D36 -> 44592 | D37: 44599 | F37: RPS/RI | G37: Mayoritario/Indígena
A38: Chocó | B38: Chocó | C38: =[1]PLANEACIÓN!D37 -> 44578 | F38: Ración Preparada en Sitio | G38: PAE Mayoritario
A39: Chocó | B39: Chocó | C39: =[1]PLANEACIÓN!D38 -> 44578 | F39: Ración Preparada en Sitio | G39: PAE Indígena
A40: Chocó | B40: Quibdó | C40: =[1]PLANEACIÓN!D38 -> 44578 | D40: 44599 | E40: 44890 | F40: Ración Preparada en Sitio | G40: PAE Mayoritario | H40: 33816
...
